BEGIN:VCALENDAR
VERSION:2.0
PRODID:https://www.diw.de/de/diw_01.c.806339.de/veranstaltungen.html
METHOD:PUBLISH
CALSCALE:GREGORIAN
BEGIN:VEVENT
UID:diw_01.c.506765.de
LOCATION:Eleanor-Dulles-Raum,DIW Berlin im Quartier 110,5.2.010,Anton-Wilhelm-Amo-Straße 58,10117 Berlin
SUMMARY:Cartels Uncovered
DESCRIPTION:13:15-14:30 // 
DTSTART;VALUE=DATE:20150612
DTEND;VALUE=DATE:20150612
DTSTAMP:20150603T220000Z
URL:https://www.diw.de/de/diw_01.c.506765.de/veranstaltungen/cartels_uncovered.html
ORGANIZER;CN=Nicole Haase:mailto:nhaase@diw.de 
END:VEVENT
END:VCALENDAR