BEGIN:VCALENDAR
VERSION:2.0
PRODID:https://www.diw.de/de/diw_01.c.806339.de/veranstaltungen.html
METHOD:PUBLISH
CALSCALE:GREGORIAN
BEGIN:VEVENT
UID:diw_01.c.507943.en
LOCATION:Eleanor-Dulles-Raum,DIW Berlin im Quartier 110,5.2.010,Anton-Wilhelm-Amo-Straße 58,10117 Berlin
SUMMARY:Explosive earnings dynamics: Whoever has will be given more
DESCRIPTION:13:15-14:30 // 
DTSTART;VALUE=DATE:20160610
DTEND;VALUE=DATE:20160610
DTSTAMP:20150609T220000Z
URL:https://www.diw.de/en/diw_01.c.507943.en/events/explosive_earnings_dynamics_whoever_has_will_be_given_more.html
ORGANIZER;CN=Nicole Haase:mailto:nhaase@diw.de 
END:VEVENT
END:VCALENDAR