BEGIN:VCALENDAR
VERSION:2.0
PRODID:https://www.diw.de/de/diw_01.c.806339.de/veranstaltungen.html
METHOD:PUBLISH
CALSCALE:GREGORIAN
BEGIN:VEVENT
UID:diw_01.c.509884.de
LOCATION:Eleanor-Dulles-Raum,DIW Berlin im Quartier 110,5.2.010,Anton-Wilhelm-Amo-Straße 58,10117 Berlin
SUMMARY:Switching Costs and Contracts as a Barrier to Entry
DESCRIPTION:10:30 // 
DTSTART;VALUE=DATE:20150703
DTEND;VALUE=DATE:20150703
DTSTAMP:20150628T220000Z
URL:https://www.diw.de/de/diw_01.c.509884.de/veranstaltungen/switching_costs_and_contracts_as_a_barrier_to_entry.html
ORGANIZER;CN=Tobias Schmidt:mailto:tschmidt@diw.de
END:VEVENT
END:VCALENDAR