BEGIN:VCALENDAR
VERSION:2.0
PRODID:https://www.diw.de/de/diw_01.c.806339.de/veranstaltungen.html
METHOD:PUBLISH
CALSCALE:GREGORIAN
BEGIN:VEVENT
UID:diw_01.c.511509.en
LOCATION:Geschäftsstelle der Leibniz-Gemeinschaft,Room 1.15,Chausseestr. 111,10115 Berlin
SUMMARY:KOMIED Workshop
DESCRIPTION:A workshop ot the research project  Municipal infrastructure companies against the background of energy policy and demographic change (KOMIED) - Empirical analyses using micro level data of the energy, water and waste sector
DTSTART;VALUE=DATE:20151002
DTEND;VALUE=DATE:20151002
DTSTAMP:20150720T220000Z
URL:https://www.diw.de/en/diw_01.c.511509.en/events/komied_workshop.html
ORGANIZER;CN=Astrid Cullmann:mailto:acullmann@diw.de
END:VEVENT
END:VCALENDAR