BEGIN:VCALENDAR
VERSION:2.0
PRODID:https://www.diw.de/de/diw_01.c.806339.de/veranstaltungen.html
METHOD:PUBLISH
CALSCALE:GREGORIAN
BEGIN:VEVENT
UID:diw_01.c.515434.en
LOCATION:WZB - Wissenschaftszentrum Berlin für Sozialforschung,Reichpietschufer 50,10785 Berlin
SUMMARY:12th International German Socio-Economic Panel User Conference (SOEP 2016)
DESCRIPTION:The conference provides researchers who use the SOEP with the opportunity to present and discuss their work with other researchers familiar with SOEP data. Researchers of all disciplines (e.g., economics, demography, geography, political science, public health, psychology, and sociology) who use the SOEP or the SOEP part of the Cross-National Equivalent File (CNEF) are invited to submit an abstract. We especially encourage submissions on inter-generational mobility in income, wealth, educational attainment, fertility, and related areas.  Scientific committee    Reiner Pollack, WZB and Freie Universität Berlin  Anette Fasang, Humboldt University Berlin, WZB  Jan Goebel, DIW Berlin  Jürgen Schupp, DIW Berlin and Freie Universität Berlin  Carsten Schröder, DIW Berlin and Freie Universität Berlin  
DTSTART;VALUE=DATE:20160621T220000Z
DTEND;VALUE=DATE:20160623T220000Z
DTSTAMP:20151001T220000Z
URL:https://www.diw.de/en/diw_01.c.515434.en/events/12th_international_german_socio_economic_panel_user_conference_soep_2016.html
ORGANIZER;CN=Christine Kurka:mailto:ckurka@diw.de
END:VEVENT
END:VCALENDAR