BEGIN:VCALENDAR
VERSION:2.0
PRODID:https://www.diw.de/de/diw_01.c.806339.de/veranstaltungen.html
METHOD:PUBLISH
CALSCALE:GREGORIAN
BEGIN:VEVENT
UID:diw_01.c.517801.en
LOCATION:Schumpeter Hall,Anton-Wilhelm-Amo-Strasse 58,10117 Berlin
SUMMARY:Atomkraft – Eine nachhaltige Technologie für den Klimaschutz?
DESCRIPTION:12:30 - 14:00 // Im Vorfeld der 21. Klimakonferenz in Paris ist nicht nur in Deutschland die Diskussion bezüglich der Nachhaltigkeit der Atomwirtschaft in den Fokus der Öffentlichkeit gerückt. Neben Fragen der Wirtschaftlichkeit und Sicherheit, stehen dabei zunehmend auch Herausforderungen für die langfristige Entwicklung von Unternehmensstrategien im Mittelpunkt, Laufzeitverlängerungen, Neubauten sowie Rückbau und Endlagerung von Atomabfällen.Das BSEC adressiert einige dieser Themen mit einem breiten Spektrum an Stakeholdern und lädt zu einer offenen Diskussion im internationalen Kontext ein. Dieses Mal findet die Veranstaltung in deutscher Sprache statt.  Referenten:  Mycle Schneider, selbstständiger Berater, World Nuclear Industry Status Report 2015Dr. Ralf Güldner, E.ON Kernkraft GmbHDr. Elmar Kriegler, Potsdam Institut für KlimafolgenforschungCornelia Ziehm, RechtsanwältinProf. Dr. Dorothea Schäfer, DIW BerlinBen Wealer und Jan-Paul Seidel, TU Berlin / WIP  
DTSTART;VALUE=DATE:20151105
DTEND;VALUE=DATE:20151105
DTSTAMP:20151025T230000Z
URL:https://www.diw.de/en/diw_01.c.517801.en/events/atomkraft_eine_nachhaltige_technologie_fuer_den_klimaschutz.html
ORGANIZER;CN=Roman Mendelevitch:mailto:rmendelevitch@diw.de
END:VEVENT
END:VCALENDAR