BEGIN:VCALENDAR
VERSION:2.0
PRODID:https://www.diw.de/de/diw_01.c.806339.de/veranstaltungen.html
METHOD:PUBLISH
CALSCALE:GREGORIAN
BEGIN:VEVENT
UID:diw_01.c.522398.en
SUMMARY:Models with Occasionally Binding Constraints
DESCRIPTION:14:00-17:00(14.04.)09:00-12:30(15.04.) // 
DTSTART;VALUE=DATE:20160413T220000Z
DTEND;VALUE=DATE:20160415T220000Z
DTSTAMP:20151209T230000Z
URL:https://www.diw.de/en/diw_01.c.522398.en/events/models_with_occasionally_binding_constraints.html
ORGANIZER;CN=Anton Velinov:mailto:avelinov@diw.de
END:VEVENT
END:VCALENDAR