BEGIN:VCALENDAR
VERSION:2.0
PRODID:https://www.diw.de/de/diw_01.c.806339.de/veranstaltungen.html
METHOD:PUBLISH
CALSCALE:GREGORIAN
BEGIN:VEVENT
UID:diw_01.c.532443.en
LOCATION:Schumpeter Hall,Anton-Wilhelm-Amo-Strasse 58,10117 Berlin
SUMMARY:CO2 Emission Intensity and Exporting: Evidence from German Firm-Level Data
DESCRIPTION:10:30 - 11:30 // 
DTSTART;VALUE=DATE:20160429
DTEND;VALUE=DATE:20160429
DTSTAMP:20160425T220000Z
URL:https://www.diw.de/en/diw_01.c.532443.en/events/co2_emission_intensity_and_exporting_evidence_from_german_firm_level_data.html
ORGANIZER;CN=Marie Le Mouel:mailto:mlemouel@diw.de
END:VEVENT
END:VCALENDAR