BEGIN:VCALENDAR
VERSION:2.0
PRODID:https://www.diw.de/de/diw_01.c.806339.de/veranstaltungen.html
METHOD:PUBLISH
CALSCALE:GREGORIAN
BEGIN:VEVENT
UID:diw_01.c.535392.en
LOCATION:Eleanor-Dulles-Raum,DIW Berlin im Quartier 110,5.2.010,Anton-Wilhelm-Amo-Straße 58,10117 Berlin
SUMMARY:Managerial Knowledge Spillovers and Firm Productivity
DESCRIPTION:10:30 - 11:30 // 
DTSTART;VALUE=DATE:20160603
DTEND;VALUE=DATE:20160603
DTSTAMP:20160531T220000Z
URL:https://www.diw.de/en/diw_01.c.535392.en/events/managerial_knowledge_spillovers_and_firm_productivity.html
ORGANIZER;CN=Marie Le Mouel:mailto:mlemouel@diw.de
END:VEVENT
END:VCALENDAR