BEGIN:VCALENDAR
VERSION:2.0
PRODID:https://www.diw.de/de/diw_01.c.806339.de/veranstaltungen.html
METHOD:PUBLISH
CALSCALE:GREGORIAN
BEGIN:VEVENT
UID:diw_01.c.542492.de
LOCATION:Eleanor-Dulles-Raum,DIW Berlin im Quartier 110,5.2.010,Anton-Wilhelm-Amo-Straße 58,10117 Berlin
SUMMARY:Recent Developments in Panel Data Econometrics
DESCRIPTION:14:00-17:30(21.09.)09:00-12:30(22.09.) // 
DTSTART;VALUE=DATE:20160920T220000Z
DTEND;VALUE=DATE:20160922T220000Z
DTSTAMP:20160915T220000Z
URL:https://www.diw.de/de/diw_01.c.542492.de/veranstaltungen/recent_developments_in_panel_data_econometrics.html
ORGANIZER;CN=Anton Velinov:mailto:avelinov@diw.de
END:VEVENT
END:VCALENDAR