BEGIN:VCALENDAR
VERSION:2.0
PRODID:https://www.diw.de/de/diw_01.c.806339.de/veranstaltungen.html
METHOD:PUBLISH
CALSCALE:GREGORIAN
BEGIN:VEVENT
UID:diw_01.c.542610.en
SUMMARY:Econometric Analysis of Stated Preferences
DESCRIPTION:14:00-17:30(06.10.)09:00-12:30(07.10.) // 
DTSTART;VALUE=DATE:20161005T220000Z
DTEND;VALUE=DATE:20161007T220000Z
DTSTAMP:20160915T220000Z
URL:https://www.diw.de/en/diw_01.c.542610.en/events/econometric_analysis_of_stated_preferences.html
ORGANIZER;CN=Anton Velinov:mailto:avelinov@diw.de
END:VEVENT
END:VCALENDAR