BEGIN:VCALENDAR
VERSION:2.0
PRODID:https://www.diw.de/de/diw_01.c.806339.de/veranstaltungen.html
METHOD:PUBLISH
CALSCALE:GREGORIAN
BEGIN:VEVENT
UID:diw_01.c.542641.en
SUMMARY:Machine Learning Methods in Economics
DESCRIPTION:14:30-18:00(13.10.) Room22, SPA1, HU Berlin09:00-12:30(14.10.) Schumpeter Hall, DIW Berlin // 
DTSTART;VALUE=DATE:20161012T220000Z
DTEND;VALUE=DATE:20161014T220000Z
DTSTAMP:20160915T220000Z
URL:https://www.diw.de/en/diw_01.c.542641.en/events/machine_learning_methods_in_economics.html
ORGANIZER;CN=Anton Velinov:mailto:avelinov@diw.de
END:VEVENT
END:VCALENDAR