BEGIN:VCALENDAR
VERSION:2.0
PRODID:https://www.diw.de/de/diw_01.c.806339.de/veranstaltungen.html
METHOD:PUBLISH
CALSCALE:GREGORIAN
BEGIN:VEVENT
UID:diw_01.c.542665.en
LOCATION:Eleanor-Dulles-Raum,DIW Berlin im Quartier 110,5.2.010,Anton-Wilhelm-Amo-Straße 58,10117 Berlin
SUMMARY:Production and Cost: an IO perspective
DESCRIPTION:14:00-17:30(07.11.)09:00-12:30(08.11.) // 
DTSTART;VALUE=DATE:20161106T220000Z
DTEND;VALUE=DATE:20161108T220000Z
DTSTAMP:20160915T220000Z
URL:https://www.diw.de/en/diw_01.c.542665.en/events/production_and_cost__an_io_perspective.html
ORGANIZER;CN=Anton Velinov:mailto:avelinov@diw.de
END:VEVENT
END:VCALENDAR