BEGIN:VCALENDAR
VERSION:2.0
PRODID:https://www.diw.de/de/diw_01.c.806339.de/veranstaltungen.html
METHOD:PUBLISH
CALSCALE:GREGORIAN
BEGIN:VEVENT
UID:diw_01.c.544808.en
LOCATION:Gustav-Schmoller-Raum,DIW Berlin im Quartier 110,3.3.002A,Anton-Wilhelm-Amo-Straße 58,10117 Berlin
SUMMARY:Monetary facts revisited
DESCRIPTION:12:00 - 13:15 // This paper uses a cross-country database covering 46 economies over the post-war period to revisit two key monetary facts: (i) the long-run link between money growth and inflation and (ii) the link between credit growth and financial crises. The analysis reveals that the former has weakened over time, while the latter has become stronger. Moreover, the money-inflation nexus has been stronger in emerging market economies than in advanced economies, while it is the other way round for the link between credit growth and financial crises. These results suggest that there is an inverse relationship between the two monetary facts. The money-inflation link is weaker in regimes characterised by low inflation and highly liberalised financial systems, while the reverse holds true for the credit-crisis nexus.
DTSTART;VALUE=DATE:20161019
DTEND;VALUE=DATE:20161019
DTSTAMP:20161013T220000Z
URL:https://www.diw.de/en/diw_01.c.544808.en/events/monetary_facts_revisited.html
ORGANIZER;CN=Niels Aka:mailto:naka@diw.de
END:VEVENT
END:VCALENDAR