BEGIN:VCALENDAR
VERSION:2.0
PRODID:https://www.diw.de/de/diw_01.c.806339.de/veranstaltungen.html
METHOD:PUBLISH
CALSCALE:GREGORIAN
BEGIN:VEVENT
UID:diw_01.c.545579.en
SUMMARY:Man-cessions, Fiscal Policy, and the Gender Composition of Employment
DESCRIPTION:12:00 - 13:15 // In recessions, predominantly men lose their jobs, which has been described by the term ”mancessions”. Against this background, we analyze whether fiscal expansions foster job creation predominantly for men. Yet, we find empirically that fiscal shocks lead to employment growth that is larger for women than for men. We show that the gender-specific employment effects of fiscal policy are driven by disproportionate employment changes in female-dominated occupations, specifically so-called ”pink-collar” occupations. We develop a business-cycle model that explains these occupational employment dynamics as a consequence of differences in the substitutability between capital and labor across occupations.
DTSTART;VALUE=DATE:20161026
DTEND;VALUE=DATE:20161026
DTSTAMP:20161012T220000Z
URL:https://www.diw.de/en/diw_01.c.545579.en/events/man_cessions_fiscal_policy_and_the_gender_composition_of_employment.html
ORGANIZER;CN=Niels Aka:mailto:naka@diw.de
END:VEVENT
END:VCALENDAR