BEGIN:VCALENDAR
VERSION:2.0
PRODID:https://www.diw.de/de/diw_01.c.806339.de/veranstaltungen.html
METHOD:PUBLISH
CALSCALE:GREGORIAN
BEGIN:VEVENT
UID:diw_01.c.545848.de
LOCATION:Gustav-Schmoller-Raum,DIW Berlin im Quartier 110,3.3.002A,Anton-Wilhelm-Amo-Straße 58,10117 Berlin
SUMMARY:Internet and Health Choices: Evidence from the UK
DESCRIPTION:10:30 - 11:30 // 
DTSTART;VALUE=DATE:20170127
DTEND;VALUE=DATE:20170127
DTSTAMP:20161024T220000Z
URL:https://www.diw.de/de/diw_01.c.545848.de/veranstaltungen/internet_and_health_choices_evidence_from_the_uk.html
ORGANIZER;CN=Marie Le Mouel:mailto:mlemouel@diw.de
END:VEVENT
END:VCALENDAR