BEGIN:VCALENDAR
VERSION:2.0
PRODID:https://www.diw.de/de/diw_01.c.806339.de/veranstaltungen.html
METHOD:PUBLISH
CALSCALE:GREGORIAN
BEGIN:VEVENT
UID:diw_01.c.547614.en
LOCATION:Gustav-Schmoller-Raum,DIW Berlin im Quartier 110,3.3.002A,Anton-Wilhelm-Amo-Straße 58,10117 Berlin
SUMMARY:Antibiotic Prescribing under Uncertainty about Resistance
DESCRIPTION:10:30 - 11:30 // 
DTSTART;VALUE=DATE:20161125
DTEND;VALUE=DATE:20161125
DTSTAMP:20161024T220000Z
URL:https://www.diw.de/en/diw_01.c.547614.en/events/antibiotic_prescribing_under_uncertainty_about_resistance.html
ORGANIZER;CN=Marie Le Mouel:mailto:mlemouel@diw.de
END:VEVENT
END:VCALENDAR