BEGIN:VCALENDAR
VERSION:2.0
PRODID:https://www.diw.de/de/diw_01.c.806339.de/veranstaltungen.html
METHOD:PUBLISH
CALSCALE:GREGORIAN
BEGIN:VEVENT
UID:diw_01.c.552009.en
LOCATION:Eleanor-Dulles-Raum,DIW Berlin im Quartier 110,5.2.010,Anton-Wilhelm-Amo-Straße 58,10117 Berlin
SUMMARY:Bayesian Methods for Empirical Macroeconomics
DESCRIPTION:14:00-17:30(05.10.) 09:00-12:30(06.10.) 14:00-15:30(06.10.) // 
DTSTART;VALUE=DATE:20171004T220000Z
DTEND;VALUE=DATE:20171006T220000Z
DTSTAMP:20170202T230000Z
URL:https://www.diw.de/en/diw_01.c.552009.en/events/bayesian_methods_for_empirical_macroeconomics.html
ORGANIZER;CN=Anton Velinov:mailto:avelinov@diw.de
END:VEVENT
END:VCALENDAR