BEGIN:VCALENDAR
VERSION:2.0
PRODID:https://www.diw.de/de/diw_01.c.806339.de/veranstaltungen.html
METHOD:PUBLISH
CALSCALE:GREGORIAN
BEGIN:VEVENT
UID:diw_01.c.555174.en
LOCATION:Ferdinand-Friedensburg-Raum,DIW Berlin,2.3.001,Anton-Wilhelm-Amo-Straße 58,10117 Berlin
SUMMARY:Quantifying Inertia in Retail Deposit Markets
DESCRIPTION:2:00 - 3:15 p.m. // 
DTSTART;VALUE=DATE:20170331
DTEND;VALUE=DATE:20170331
DTSTAMP:20161024T220000Z
URL:https://www.diw.de/en/diw_01.c.555174.en/events/quantifying_inertia_in_retail_deposit_markets.html
ORGANIZER;CN=Marie Le Mouel:mailto:mlemouel@diw.de
END:VEVENT
END:VCALENDAR