BEGIN:VCALENDAR
VERSION:2.0
PRODID:https://www.diw.de/de/diw_01.c.806339.de/veranstaltungen.html
METHOD:PUBLISH
CALSCALE:GREGORIAN
BEGIN:VEVENT
UID:diw_01.c.557658.en
LOCATION:Eleanor-Dulles-Raum,DIW Berlin im Quartier 110,5.2.010,Anton-Wilhelm-Amo-Straße 58,10117 Berlin
SUMMARY:The Method of Simulated Moments: An Applied Perspective
DESCRIPTION:09:00-12:30 // 
DTSTART;VALUE=DATE:20170730T220000Z
DTEND;VALUE=DATE:20170801T220000Z
DTSTAMP:20170504T220000Z
URL:https://www.diw.de/en/diw_01.c.557658.en/events/the_method_of_simulated_moments__an_applied_perspective.html
ORGANIZER;CN=Anton Velinov:mailto:avelinov@diw.de
END:VEVENT
END:VCALENDAR