BEGIN:VCALENDAR
VERSION:2.0
PRODID:https://www.diw.de/de/diw_01.c.806339.de/veranstaltungen.html
METHOD:PUBLISH
CALSCALE:GREGORIAN
BEGIN:VEVENT
UID:diw_01.c.557662.en
LOCATION:Gustav-Schmoller-Raum,DIW Berlin im Quartier 110,3.3.002A,Anton-Wilhelm-Amo-Straße 58,10117 Berlin
SUMMARY:DSGE Models with Occasionally Binding Constraints
DESCRIPTION:14:30-18:00 (02.11.)09:00-12:30 (03.11.) // Masterclasses are a series of one- or two day courses on various topics in Economics, organized by the DIW Graduate Center. The target audience consists of graduate students in Economics at Berlin universities and research institutes. The GC Masterclasses are held on an irregular basis at DIW Berlin (about once a month) and are open to all affiliates of DIW Berlin, those of the BDPEMS program, and anyone else upon inquiry. For proposals of Masterclasses please contact Anton Velinov Ph.D.  Find the course material here.
DTSTART;VALUE=DATE:20171101T220000Z
DTEND;VALUE=DATE:20171103T220000Z
DTSTAMP:20170504T220000Z
URL:https://www.diw.de/en/diw_01.c.557662.en/events/dsge_models_with_occasionally_binding_constraints.html
ORGANIZER;CN=Anton Velinov:mailto:avelinov@diw.de
END:VEVENT
END:VCALENDAR