BEGIN:VCALENDAR
VERSION:2.0
PRODID:https://www.diw.de/de/diw_01.c.806339.de/veranstaltungen.html
METHOD:PUBLISH
CALSCALE:GREGORIAN
BEGIN:VEVENT
UID:diw_01.c.559569.en
LOCATION:Eleanor-Dulles-Raum,DIW Berlin im Quartier 110,5.2.010,Anton-Wilhelm-Amo-Straße 58,10117 Berlin
SUMMARY:Individual Risk Preferences and the Demand for Redistribution
DESCRIPTION:10:30 - 11:30 // 
DTSTART;VALUE=DATE:20170602
DTEND;VALUE=DATE:20170602
DTSTAMP:20170601T220000Z
URL:https://www.diw.de/en/diw_01.c.559569.en/events/individual_risk_preferences_and_the_demand_for_redistribution.html
ORGANIZER;CN=Marie Le Mouel:mailto:mlemouel@diw.de
END:VEVENT
END:VCALENDAR