BEGIN:VCALENDAR
VERSION:2.0
PRODID:https://www.diw.de/de/diw_01.c.806339.de/veranstaltungen.html
METHOD:PUBLISH
CALSCALE:GREGORIAN
BEGIN:VEVENT
UID:diw_01.c.562250.en
LOCATION:Eleanor-Dulles-Raum,DIW Berlin im Quartier 110,5.2.010,Anton-Wilhelm-Amo-Straße 58,10117 Berlin
SUMMARY:Choosing to Compete Against Self or Others - Gender Differences
DESCRIPTION:13.15 - 14.30 // 
DTSTART;VALUE=DATE:20170922
DTEND;VALUE=DATE:20170922
DTSTAMP:20170719T220000Z
URL:https://www.diw.de/en/diw_01.c.562250.en/events/choosing_to_compete_against_self_or_others_gender_differences.html
ORGANIZER;CN=Peter Haan:mailto:phaan@diw.de
END:VEVENT
END:VCALENDAR