BEGIN:VCALENDAR
VERSION:2.0
PRODID:https://www.diw.de/de/diw_01.c.806339.de/veranstaltungen.html
METHOD:PUBLISH
CALSCALE:GREGORIAN
BEGIN:VEVENT
UID:diw_01.c.563539.en
LOCATION:Schumpeter Hall,Anton-Wilhelm-Amo-Strasse 58,10117 Berlin
SUMMARY:The 9th Berlin IO Day
DESCRIPTION:The Berlin IO Day is a one-day workshop sponsored by the Berlin Centre for Consumer Policies (BCCP) and supported by the Berlin's leading academic institutions, including DIW Berlin, ESMT Berlin, Freie Universität Berlin, Humboldt-Universität zu Berlin, Technische Universität Berlin, and WZB which takes place twice a year, in the Fall and in the Spring. The aim is to create an international forum for high quality research in Industrial Organization in the heart of Berlin, one of Europe's most vibrant and intellectually lively cities.
DTSTART;VALUE=DATE:20171006
DTEND;VALUE=DATE:20171006
DTSTAMP:20170824T220000Z
URL:https://www.diw.de/en/diw_01.c.563539.en/events/the_9th_berlin_io_day.html
ORGANIZER;CN=Tomaso Duso:mailto:tduso@diw.de
END:VEVENT
END:VCALENDAR