BEGIN:VCALENDAR
VERSION:2.0
PRODID:https://www.diw.de/de/diw_01.c.806339.de/veranstaltungen.html
METHOD:PUBLISH
CALSCALE:GREGORIAN
BEGIN:VEVENT
UID:diw_01.c.564472.en
LOCATION:Eleanor-Dulles-Raum,DIW Berlin im Quartier 110,5.2.010,Anton-Wilhelm-Amo-Straße 58,10117 Berlin
SUMMARY:Learning from User Feedback Data
DESCRIPTION:10:30-11:30 // 
DTSTART;VALUE=DATE:20171027
DTEND;VALUE=DATE:20171027
DTSTAMP:20170911T220000Z
URL:https://www.diw.de/en/diw_01.c.564472.en/events/learning_from_user_feedback_data.html
ORGANIZER;CN=Marie Le Mouel:mailto:mlemouel@diw.de
END:VEVENT
END:VCALENDAR