BEGIN:VCALENDAR
VERSION:2.0
PRODID:https://www.diw.de/de/diw_01.c.806339.de/veranstaltungen.html
METHOD:PUBLISH
CALSCALE:GREGORIAN
BEGIN:VEVENT
UID:diw_01.c.564502.en
LOCATION:Eleanor-Dulles-Raum,DIW Berlin im Quartier 110,5.2.010,Anton-Wilhelm-Amo-Straße 58,10117 Berlin
SUMMARY:Public Procurement Rules: Evidence from Poland
DESCRIPTION:10:30-11:30 // 
DTSTART;VALUE=DATE:20171215
DTEND;VALUE=DATE:20171215
DTSTAMP:20170911T220000Z
URL:https://www.diw.de/en/diw_01.c.564502.en/events/public_procurement_rules_evidence_from_poland.html
ORGANIZER;CN=Marie Le Mouel:mailto:mlemouel@diw.de
END:VEVENT
END:VCALENDAR