BEGIN:VCALENDAR
VERSION:2.0
PRODID:https://www.diw.de/de/diw_01.c.806339.de/veranstaltungen.html
METHOD:PUBLISH
CALSCALE:GREGORIAN
BEGIN:VEVENT
UID:diw_01.c.567483.en
LOCATION:Eleanor-Dulles-Raum,DIW Berlin im Quartier 110,5.2.010,Anton-Wilhelm-Amo-Straße 58,10117 Berlin
SUMMARY:Workshop on Behavioral Welfare Economics
DESCRIPTION:2 Nov:&nbsp; 15:00 - 18:303 Nov:&nbsp; 09:00 - 18:30 // The aim of this workshop on behavioral welfare economics is to make advances on welfare economics based on behavioral economics models. The plan is to develop ideas rather than to present finished work. Hence there will be discussion sessions on different topics that take about an hour and that will each be started by one or two 10-15 minute presentations. There will also be two short paper presentations.
DTSTART;VALUE=DATE:20171101T220000Z
DTEND;VALUE=DATE:20171103T220000Z
DTSTAMP:20171022T220000Z
URL:https://www.diw.de/en/diw_01.c.567483.en/events/workshop_on_behavioral_welfare_economics.html
ORGANIZER;CN=Jana Friedrichsen:mailto:jfriedrichsen@diw.de
END:VEVENT
END:VCALENDAR