BEGIN:VCALENDAR
VERSION:2.0
PRODID:https://www.diw.de/de/diw_01.c.806339.de/veranstaltungen.html
METHOD:PUBLISH
CALSCALE:GREGORIAN
BEGIN:VEVENT
UID:diw_01.c.581788.en
LOCATION:Anna J. Schwartz Room,5.2.010,Anton-Wilhelm-Amo-Strasse 58,10117 Berlin
SUMMARY:Are Households Credit Constrained for Sanitation? Experimental Evidence from India
DESCRIPTION:12:30 - 14:00 // 
DTSTART;VALUE=DATE:20180717
DTEND;VALUE=DATE:20180717
DTSTAMP:20180408T220000Z
URL:https://www.diw.de/en/diw_01.c.581788.en/events/are_households_credit_constrained_for_sanitation_experimental_evidence_from_india.html
ORGANIZER;CN=Antonia Grohmann:mailto:agrohmann@diw.de
END:VEVENT
END:VCALENDAR