BEGIN:VCALENDAR
VERSION:2.0
PRODID:https://www.diw.de/de/diw_01.c.806339.de/veranstaltungen.html
METHOD:PUBLISH
CALSCALE:GREGORIAN
BEGIN:VEVENT
UID:diw_01.c.582319.en
LOCATION:Elinor Ostrom Hall,DIW Berlin,Anton-Wilhelm-Amo-Strasse 58,10117 Berlin
SUMMARY: China's economic policy future: state capitalism or strengthened market economy?
DESCRIPTION:12.00 - 14.15 Uhr // The DIW Berlin and the OECD Berlin Centre cordially invite you to the Berlin Lunchtime Meeting.  In China the strengthening of market mechanisms hoped for by western businesses is making only slow progress. Instead the state and the Communist Party are expanding their influence in the economy. This has consequences for China's economic policy. In the past decades this has led to growing overcapacities and indebtedness. Now China is aiming at global technological leadership. Is this approach a threat to the liberal order of the global economy?  The event language will be English.  The lecture starts at 13:00 p.m.We look forward to your participation, and request that you register at events@diw.de
DTSTART;VALUE=DATE:20180425
DTEND;VALUE=DATE:20180425
DTSTAMP:20180415T220000Z
URL:https://www.diw.de/en/diw_01.c.582319.en/events/china_s_economic_policy_future_state_capitalism_or_strengthened_market_economy.html
ORGANIZER;CN=Ralf Messer:mailto:rmesser@diw.de
END:VEVENT
END:VCALENDAR