BEGIN:VCALENDAR
VERSION:2.0
PRODID:https://www.diw.de/de/diw_01.c.806339.de/veranstaltungen.html
METHOD:PUBLISH
CALSCALE:GREGORIAN
BEGIN:VEVENT
UID:diw_01.c.582695.en
LOCATION:Schumpeter Hall,Anton-Wilhelm-Amo-Strasse 58,10117 Berlin
SUMMARY:3rd BCCP Forum
DESCRIPTION:13:30 - 17:30 // Leibniz ScienceCampusBerlin Centre for Consumer Policies (BCCP) Forum  The Forum will bring together all BCCP fellows in law and economics who are engaged in the activities of the science campus. We will have the opportunity to learn about each other’s research during short presentations by the different partner institutions followed by open discussion. The objective of the meeting is to encourage discourse and exchange and clarify the themes and aims of BCCP.  More about BCCP  
DTSTART;VALUE=DATE:20170420
DTEND;VALUE=DATE:20170420
DTSTAMP:20180417T220000Z
URL:https://www.diw.de/en/diw_01.c.582695.en/events/3rd_bccp_forum.html
ORGANIZER;CN=Hannes Ullrich:mailto:hullrich@diw.de
END:VEVENT
END:VCALENDAR