BEGIN:VCALENDAR
VERSION:2.0
PRODID:https://www.diw.de/de/diw_01.c.806339.de/veranstaltungen.html
METHOD:PUBLISH
CALSCALE:GREGORIAN
BEGIN:VEVENT
UID:diw_01.c.583277.en
LOCATION:ESMT Berlin,European School of Management and Technology,Schloßplatz 1,10178 Berlin
SUMMARY:The 10th Berlin IO Day
DESCRIPTION:The Berlin IO Day is a one-day workshop sponsored by the Berlin Centre for Consumer Policies (BCCP) and supported by the Berlin's leading academic institutions, including DIW Berlin, ESMT Berlin, Humboldt-Universität zu Berlin, Technische Universität Berlin, and WZB which takes place twice a year, in the Fall and in the Spring. The aim is to create an international forum for high quality research in Industrial Organization in the heart of Berlin, one of Europe's most vibrant and intellectually lively cities.
DTSTART;VALUE=DATE:20180928
DTEND;VALUE=DATE:20180928
DTSTAMP:20180424T220000Z
URL:https://www.diw.de/en/diw_01.c.583277.en/events/the_10th_berlin_io_day.html
ORGANIZER;CN=Tomaso Duso:mailto:tduso@diw.de
END:VEVENT
END:VCALENDAR