BEGIN:VCALENDAR
VERSION:2.0
PRODID:https://www.diw.de/de/diw_01.c.806339.de/veranstaltungen.html
METHOD:PUBLISH
CALSCALE:GREGORIAN
BEGIN:VEVENT
UID:diw_01.c.583981.en
LOCATION:Anna J. Schwartz Room,5.2.010,Anton-Wilhelm-Amo-Strasse 58,10117 Berlin
SUMMARY:Panel Factor Models
DESCRIPTION:14:00-17:30 (05.11.2018)09:00-12:30 (06.11.2018) // Masterclasses are a series of one- or two-day courses on various topics in Economics, organized by the DIW Graduate Center. The target audience consists of graduate students in Economics at Berlin universities and research institutes. The GC Masterclasses are held on an irregular basis at DIW Berlin (about once a month) and are open to all affiliates of DIW Berlin, those of the BDPEMS program, and anyone else upon inquiry. For proposals of Masterclasses please contact Anton Velinov Ph.D.
DTSTART;VALUE=DATE:20181104T220000Z
DTEND;VALUE=DATE:20181106T220000Z
DTSTAMP:20180507T220000Z
URL:https://www.diw.de/en/diw_01.c.583981.en/events/panel_factor_models.html
ORGANIZER;CN=Anton Velinov:mailto:avelinov@diw.de
END:VEVENT
END:VCALENDAR