BEGIN:VCALENDAR
VERSION:2.0
PRODID:https://www.diw.de/de/diw_01.c.806339.de/veranstaltungen.html
METHOD:PUBLISH
CALSCALE:GREGORIAN
BEGIN:VEVENT
UID:diw_01.c.591526.en
LOCATION:Elinor-Ostrom-Saal,DIW Berlin,1.2.019,Anton-Wilhelm-Amo-Straße 58,10117 Berlin
SUMMARY:Bretton Woods, Brussels, and Beyond: Redesigning the Institutions of Europe
DESCRIPTION:12.30-14.00 // Economists have discussed extensively what to do to reform the European Project and how, but have been broadly silent on who and when. Which institutions and rules are needed, and when? This eBook shows that such institutional questions, although seldomly raised, are of fundamental importance for the future of European integration.   To participate, we kindly ask you to register at events@diw.de by June 20, 2018.
DTSTART;VALUE=DATE:20180621
DTEND;VALUE=DATE:20180621
DTSTAMP:20180611T220000Z
URL:https://www.diw.de/en/diw_01.c.591526.en/events/bretton_woods_brussels_and_beyond_redesigning_the_institutions_of_europe.html
ORGANIZER;CN=Christiane Zschech:mailto:events@diw.de
END:VEVENT
END:VCALENDAR