BEGIN:VCALENDAR
VERSION:2.0
PRODID:https://www.diw.de/de/diw_01.c.806339.de/veranstaltungen.html
METHOD:PUBLISH
CALSCALE:GREGORIAN
BEGIN:VEVENT
UID:diw_01.c.599514.en
LOCATION:Anna-J.-Schwartz-Raum,DIW Berlin,5.2.010,Anton-Wilhelm-Amo-Straße 58,10117 Berlin
SUMMARY:Preparatory Math Course 2018
DESCRIPTION:13:00-17:30 // 
DTSTART;VALUE=DATE:20181001T220000Z
DTEND;VALUE=DATE:20181016T220000Z
DTSTAMP:20180927T220000Z
URL:https://www.diw.de/en/diw_01.c.599514.en/events/preparatory_math_course_2018.html
ORGANIZER;CN=Anton Velinov:mailto:avelinov@diw.de
END:VEVENT
END:VCALENDAR