BEGIN:VCALENDAR
VERSION:2.0
PRODID:https://www.diw.de/de/diw_01.c.806339.de/veranstaltungen.html
METHOD:PUBLISH
CALSCALE:GREGORIAN
BEGIN:VEVENT
UID:diw_01.c.601370.de
SUMMARY:EEA / ESEM 2017
DESCRIPTION:
DTSTART;VALUE=DATE:20170820T220000Z
DTEND;VALUE=DATE:20170825T220000Z
DTSTAMP:20181009T220000Z
URL:https://www.diw.de/de/diw_01.c.601370.de/veranstaltungen/eea_/_esem_2017.html
END:VEVENT
END:VCALENDAR