BEGIN:VCALENDAR
VERSION:2.0
PRODID:https://www.diw.de/de/diw_01.c.806339.de/veranstaltungen.html
METHOD:PUBLISH
CALSCALE:GREGORIAN
BEGIN:VEVENT
UID:diw_01.c.603802.en
LOCATION:Elinor-Ostrom-Saal,DIW Berlin,1.2.019,Anton-Wilhelm-Amo-Straße 58,10117 Berlin
SUMMARY:Das Klimaschutzgesetz als Kernelement der Transformation
DESCRIPTION:12:30 - 14:30 // Deutschland hat zwar ambitionierte Klimaziele und Planungswerke auf Basis von Kabinettsbeschlüssen, es fehlen aber gesetzliche Grundlagen, die die weitere Implementierung und Zielerreichung unterstützen können. Ein Klimaschutzgesetz, wie im Koalitionsvertrag für 2019 vorgesehen, sollte möglichst Klarheit schaffen über institutionelle Verantwortlichkeiten und Abläufe, sowie über prozedurale Elemente wie dem Monitoring und damit verbundenem Gegensteuern im Falle drohender Nichterreichung der gesteckten Klimaziele. Im zweiten BSEC nach der Sommerpause wollen wir mögliche Funktionen und Rollen eines deutschen Klimaschutzgesetzes präsentieren und diskutieren.
DTSTART;VALUE=DATE:20181015
DTEND;VALUE=DATE:20181015
DTSTAMP:20181021T220000Z
URL:https://www.diw.de/en/diw_01.c.603802.en/events/das_klimaschutzgesetz_als_kernelement_der_transformation.html
ORGANIZER;CN=Olga  Zhylenko:mailto:ozhylenko@diw.de
END:VEVENT
END:VCALENDAR