BEGIN:VCALENDAR
VERSION:2.0
PRODID:https://www.diw.de/de/diw_01.c.806339.de/veranstaltungen.html
METHOD:PUBLISH
CALSCALE:GREGORIAN
BEGIN:VEVENT
UID:diw_01.c.604559.en
LOCATION:L'Autorità per l'energia elettrica il gas,Piazza Cavour 5,20121 Milan,Italy
SUMMARY:Workshop on TSO-DSO-PX Cooperation II
DESCRIPTION:Increasing shares of active consumers, distributed generators, new flexibility providers on the distribution network lead a need of coordination between TSO, DSOs and power exchanges.  In this workshop we would like to extend the discussion we had in Mannheim, and ask with more detail the question: What needs to be considered in the market design to coordinate producers, consumers, and flexibility providers, and which aspects of the operational rules governing the cooperation between TSOs and DSOs are relevant?
DTSTART;VALUE=DATE:20180110
DTEND;VALUE=DATE:20180110
DTSTAMP:20180109T230000Z
URL:https://www.diw.de/en/diw_01.c.604559.en/events/workshop_on_tso_dso_px_cooperation_ii.html
ORGANIZER;CN=Karsten Neuhoff:mailto:kneuhoff@diw.de
END:VEVENT
END:VCALENDAR