BEGIN:VCALENDAR
VERSION:2.0
PRODID:https://www.diw.de/de/diw_01.c.806339.de/veranstaltungen.html
METHOD:PUBLISH
CALSCALE:GREGORIAN
BEGIN:VEVENT
UID:diw_01.c.605480.de
LOCATION:Ferdinand-Friedensburg-Raum,DIW Berlin,2.3.001,Anton-Wilhelm-Amo-Straße 58,10117 Berlin
SUMMARY:Runder Tisch zur Ausgestaltung symmetrischen Marktprämie (Contracts for Difference)
DESCRIPTION:14:00 - 17:00  // Hintergrundpapier für den Round Table:Ausgestaltungsoptionen für Symmetrische Marktprämie. Karsten Neuhoff, Nils May, Jörn Richstein  Zusammenfassung der Ergebnisse als Teil eines DIW Wochenberichtes:DIW Wochenbericht 28 / 2018. Kostengünstige Stromversorgung durch Differenzverträge für erneuerbare Energien. Nils May, Karsten Neuhoff, Jörn Richstein. S. 625-635 
DTSTART;VALUE=DATE:20180420
DTEND;VALUE=DATE:20180420
DTSTAMP:20180419T220000Z
URL:https://www.diw.de/de/diw_01.c.605480.de/veranstaltungen/runder_tisch_zur_ausgestaltung_symmetrischen_marktpraemie_contracts_for_difference.html
ORGANIZER;CN=Karsten Neuhoff:mailto:kneuhoff@diw.de
END:VEVENT
END:VCALENDAR