BEGIN:VCALENDAR
VERSION:2.0
PRODID:https://www.diw.de/de/diw_01.c.806339.de/veranstaltungen.html
METHOD:PUBLISH
CALSCALE:GREGORIAN
BEGIN:VEVENT
UID:diw_01.c.605752.en
LOCATION:European House,Unter den Linden 78,10117 Berlin
SUMMARY:High-level Conference on Sustainable Finance
DESCRIPTION:The final report by the EU high-level expert group on sustainable finance (HLEG) was delivered on 31 January, the Commission, in the meantime, “responded” with an action plan on 8 March and the March European Council will need to take a stance on it as well. More than 2 years after the “Paris Climate Deal” and the entry into force of the “Sustainable Development Goals”, is Europe ready to take sustainable finance to the next level, making finance work for sustainable development and for protecting our climate?  This and other questions were discussed at the high-level conference on sustainable finance, organized by DIW Berlin and the European Commission’s Representation in Germany in co-operation with the German Hub for Sustainable Finance on 22 February 2018 from 12 pm till 6 pm.  
DTSTART;VALUE=DATE:20180222
DTEND;VALUE=DATE:20180222
DTSTAMP:20180221T230000Z
URL:https://www.diw.de/en/diw_01.c.605752.en/events/high_level_conference_on_sustainable_finance.html
ORGANIZER;CN=Karsten Neuhoff:mailto:kneuhoff@diw.de
END:VEVENT
END:VCALENDAR