BEGIN:VCALENDAR
VERSION:2.0
PRODID:https://www.diw.de/de/diw_01.c.806339.de/veranstaltungen.html
METHOD:PUBLISH
CALSCALE:GREGORIAN
BEGIN:VEVENT
UID:diw_01.c.606210.en
LOCATION:Elinor-Ostrom-Saal,DIW Berlin,1.2.019,Anton-Wilhelm-Amo-Straße 58,10117 Berlin
SUMMARY:Finance and Development 2019
DESCRIPTION:Financial systems have developed rapidly in many developing countries. These changes increase the need for research into their effects. To this end DIW Berlin will host a workshop in the field of “Finance and Development” to be held in Berlin on April 25 in the afternoon and full day April 26, 2019.  Attendance by invitation!
DTSTART;VALUE=DATE:20190424T220000Z
DTEND;VALUE=DATE:20190426T220000Z
DTSTAMP:20181030T230000Z
URL:https://www.diw.de/en/diw_01.c.606210.en/events/finance_and_development_2019.html
ORGANIZER;CN=Helke Seitz:mailto:hseitz@diw.de
END:VEVENT
END:VCALENDAR