BEGIN:VCALENDAR
VERSION:2.0
PRODID:https://www.diw.de/de/diw_01.c.806339.de/veranstaltungen.html
METHOD:PUBLISH
CALSCALE:GREGORIAN
BEGIN:VEVENT
UID:diw_01.c.607603.en
LOCATION:Karl Popper Room,DIW Berlin,2.3.020,Anton-Wilhelm-Amo-Strasse 58,10117 Berlin
SUMMARY:Economic Policy - Presentation of results and policy conclusions
DESCRIPTION:15:00 - 18:00 // 
DTSTART;VALUE=DATE:20190215
DTEND;VALUE=DATE:20190215
DTSTAMP:20181115T230000Z
URL:https://www.diw.de/en/diw_01.c.607603.en/events/economic_policy_presentation_of_results_and_policy_conclusions.html
ORGANIZER;CN=Juliane Metzner:mailto:jmetzner@diw.de
END:VEVENT
END:VCALENDAR