BEGIN:VCALENDAR
VERSION:2.0
PRODID:https://www.diw.de/de/diw_01.c.806339.de/veranstaltungen.html
METHOD:PUBLISH
CALSCALE:GREGORIAN
BEGIN:VEVENT
UID:diw_01.c.613151.en
LOCATION:Elinor Ostrom Hall,DIW Berlin,Anton-Wilhelm-Amo-Strasse 58,10117 Berlin
SUMMARY:Regulation of Sovereign Exposures
DESCRIPTION:12:15 bis 13:45 Uhr // The sovereign-bank nexus remains a major vulnerability of the euro area. While the introduction of the Single Supervisory Mechanism and the Single Resolution Mechanism have helped to mitigate the nexus, no progress has been made with respect to the regulation of sovereign exposures. In the talk, Isabel Schnabel explains why the sovereign-bank nexus matters, how sovereign exposures could be regulated (including some empirical simulations), and how this issue is related to other reform streams in the euro area.  To register, please confirm your participation by August 20, 2019 at the email: events@diw.de
DTSTART;VALUE=DATE:20190821
DTEND;VALUE=DATE:20190821
DTSTAMP:20190210T230000Z
URL:https://www.diw.de/en/diw_01.c.613151.en/events/regulation_of_sovereign_exposures.html
ORGANIZER;CN=Dorothea Schäfer:mailto:dschaefer@diw.de
END:VEVENT
END:VCALENDAR