BEGIN:VCALENDAR
VERSION:2.0
PRODID:https://www.diw.de/de/diw_01.c.806339.de/veranstaltungen.html
METHOD:PUBLISH
CALSCALE:GREGORIAN
BEGIN:VEVENT
UID:diw_01.c.614640.de
LOCATION:Francine-D.-Blau-Raum,DIW Berlin,3.3.002b,Anton-Wilhelm-Amo-Straße 58,10117 Berlin
SUMMARY:Datenjournalismus
DESCRIPTION:12:30 - 13:30 //       Datenjournalismus bietet der Leserin und dem Leser die Möglichkeit Daten selbst zu explorieren und so anders zu erfahren. Längst sind Daten Teil der Recherche, Analyse und Darstellung journalistischer Inhalte geworden. Seit diesem Jahr kooperieren deshalb das SOEP und ZEIT ONLINE. In ihrem Vortrag gibt die Datenjournalistin Elena Erdmann Einblicke in den Datenjournalismus und die Arbeitsweise ihres Teams.      
DTSTART;VALUE=DATE:20190228
DTEND;VALUE=DATE:20190228
DTSTAMP:20190224T230000Z
URL:https://www.diw.de/de/diw_01.c.614640.de/veranstaltungen/datenjournalismus.html
ORGANIZER;CN=Felicitas Schikora:mailto:fschikora@diw.de
END:VEVENT
END:VCALENDAR