BEGIN:VCALENDAR
VERSION:2.0
PRODID:https://www.diw.de/de/diw_01.c.806339.de/veranstaltungen.html
METHOD:PUBLISH
CALSCALE:GREGORIAN
BEGIN:VEVENT
UID:diw_01.c.633060.en
LOCATION:Francine D. Blau Room,DIW Berlin,3.3.002b,Anton-Wilhelm-Amo-Strasse 58,10117 Berlin
SUMMARY:3rd research meeting: Research Agenda 2019/20
DESCRIPTION:11:00 - 16:00  // In the context of the major Sustainable Finance Conferences in February in Berlin and March in Brussels, the VfU-UNEP-FI-Roundtable and the 2.Sustainable Finance Summit Germany in September 2018, as well as in direct exchanges between experts, a number of research questions have been identified, which would need answering in order to support the implementation of a sustainable finance policy framework in general and the EU action plan I particular (see research agenda). On 17 December, we want to further develop this in a workshop in Berlin with researchers and think-tanks, and with research sponsors and users (from ministries, business and civil society) in order to develop a Sustainable Finance research agenda with concrete research and analysis projects for 2019/2020.
DTSTART;VALUE=DATE:20181217
DTEND;VALUE=DATE:20181217
DTSTAMP:20180826T220000Z
URL:https://www.diw.de/en/diw_01.c.633060.en/events/3rd_research_meeting__research_agenda_2019/20.html
ORGANIZER;CN=Karsten Neuhoff:mailto:kneuhoff@diw.de
END:VEVENT
END:VCALENDAR