BEGIN:VCALENDAR
VERSION:2.0
PRODID:https://www.diw.de/de/diw_01.c.806339.de/veranstaltungen.html
METHOD:PUBLISH
CALSCALE:GREGORIAN
BEGIN:VEVENT
UID:diw_01.c.633092.en
LOCATION:Francine D. Blau Room,DIW Berlin,3.3.002b,Anton-Wilhelm-Amo-Strasse 58,10117 Berlin
SUMMARY:Behavioral economics of climate and energy policies
DESCRIPTION:September 9, 14:00-17:30September 10, 09:00-12:30 // Rooms09.09.2019: Francine D. Blau Room (3rd floor)10.09.2019: Francine D. Blau Room (3rd floor)  This Masterclass is part of the Summer School "Economic Foundations for Energy and Climate Policies". Participants of the Summer School do not need to register.
DTSTART;VALUE=DATE:20190908T220000Z
DTEND;VALUE=DATE:20190910T220000Z
DTSTAMP:20190626T220000Z
URL:https://www.diw.de/en/diw_01.c.633092.en/events/behavioral_economics_of_cli...ate_and_energy_policies.html
ORGANIZER;CN=Juliane Metzner:mailto:jmetzner@diw.de
END:VEVENT
END:VCALENDAR