BEGIN:VCALENDAR
VERSION:2.0
PRODID:https://www.diw.de/de/diw_01.c.806339.de/veranstaltungen.html
METHOD:PUBLISH
CALSCALE:GREGORIAN
BEGIN:VEVENT
UID:diw_01.c.633123.en
LOCATION:Elinor Ostrom Hall,DIW Berlin,Anton-Wilhelm-Amo-Strasse 58,10117 Berlin
SUMMARY:Competition and market design issues in electricity markets 
DESCRIPTION:September 12, 14:00-17:30September 13, 09:00-12:30 // This Masterclass is part of the Summer School "Economic Foundations for Energy and Climate Policies". Participants of the Summer School do not need to register.
DTSTART;VALUE=DATE:20190911T220000Z
DTEND;VALUE=DATE:20190913T220000Z
DTSTAMP:20190626T220000Z
URL:https://www.diw.de/en/diw_01.c.633123.en/events/competition_and_market_design_issues_in_electricity_markets.html
ORGANIZER;CN=Juliane Metzner:mailto:jmetzner@diw.de
END:VEVENT
END:VCALENDAR