BEGIN:VCALENDAR
VERSION:2.0
PRODID:https://www.diw.de/de/diw_01.c.806339.de/veranstaltungen.html
METHOD:PUBLISH
CALSCALE:GREGORIAN
BEGIN:VEVENT
UID:diw_01.c.672014.en
LOCATION:Anna J. Schwartz Room,5.2.010,Anton-Wilhelm-Amo-Strasse 58,10117 Berlin
SUMMARY:BCCP Web Scraping Course
DESCRIPTION:09:30-17:00 // 
DTSTART;VALUE=DATE:20190623T220000Z
DTEND;VALUE=DATE:20190626T220000Z
DTSTAMP:20190805T220000Z
URL:https://www.diw.de/en/diw_01.c.672014.en/events/bccp_web_scraping_course.html
END:VEVENT
END:VCALENDAR