BEGIN:VCALENDAR
VERSION:2.0
PRODID:https://www.diw.de/de/diw_01.c.806339.de/veranstaltungen.html
METHOD:PUBLISH
CALSCALE:GREGORIAN
BEGIN:VEVENT
UID:diw_01.c.682970.de
LOCATION:Ferdinand-Friedensburg-Raum,DIW Berlin,2.3.001,Anton-Wilhelm-Amo-Straße 58,10117 Berlin
SUMMARY:4. Forschungstreffen Sustainable Finance
DESCRIPTION:11:00 - 17:30 // Die Wissenschaftsplattform Sustainable Finance trifft sich zu regelmäßigen Forschungstreffen um aktuelle Forschungsthemen und –projekte zu diskutieren und deren Relevanz für den politischen Diskurs auf nationaler und EU Ebene zu erörtern. Ziel des Forschungstreffens ist ein offener, informeller Austausch, um den Diskurs über nachhaltige Finanzwesen aus Sicht der Forschung zu fördern und konstruktiv auf Basis unserer unterschiedlichen Forschungsfelder und Erfahrungen zusammenzuarbeiten. Die informelle Gesprächsrunde in einer kleinen Gruppe ermöglicht interaktive und offene Diskussionen.
DTSTART;VALUE=DATE:20190607
DTEND;VALUE=DATE:20190607
DTSTAMP:20190606T220000Z
URL:https://www.diw.de/de/diw_01.c.682970.de/veranstaltungen/4._forschungstreffen_sustainable_finance.html
ORGANIZER;CN=Karsten Neuhoff:mailto:kneuhoff@diw.de
END:VEVENT
END:VCALENDAR