BEGIN:VCALENDAR
VERSION:2.0
PRODID:https://www.diw.de/de/diw_01.c.806339.de/veranstaltungen.html
METHOD:PUBLISH
CALSCALE:GREGORIAN
BEGIN:VEVENT
UID:diw_01.c.682970.en
LOCATION:Ferdinand-Friedensburg-Raum,DIW Berlin,2.3.001,Anton-Wilhelm-Amo-Straße 58,10117 Berlin
SUMMARY:4th Research Meeting on Sustainable Finance
DESCRIPTION:11:00 - 17:30 // The Sustainable Finance Platform meets regularly for research meetings to discuss current research topics and projects and their relevance for the political discourse at national and EU level. The aim of the research meetings is an open, informal exchange to promote the discourse on sustainable finance from a research perspective and to cooperate constructively on the basis of our different research fields and experiences. The informal round table in a small group allows for interactive and open discussions.  
DTSTART;VALUE=DATE:20190607
DTEND;VALUE=DATE:20190607
DTSTAMP:20190606T220000Z
URL:https://www.diw.de/en/diw_01.c.682970.en/events/4th_research_meeting_on_sustainable_finance.html
ORGANIZER;CN=Karsten Neuhoff:mailto:kneuhoff@diw.de
END:VEVENT
END:VCALENDAR