BEGIN:VCALENDAR
VERSION:2.0
PRODID:https://www.diw.de/de/diw_01.c.806339.de/veranstaltungen.html
METHOD:PUBLISH
CALSCALE:GREGORIAN
BEGIN:VEVENT
UID:diw_01.c.682994.de
LOCATION:Elinor-Ostrom-Saal,DIW Berlin,1.2.019,Anton-Wilhelm-Amo-Straße 58,10117 Berlin
SUMMARY:Treffen des Sustainable Finance Beirat: Briefing und Diskussion zur EU Sustainable Finance Taxonomie
DESCRIPTION:13:00 - 17:00 // Internes Treffen des Sustainable Finance Beirates der Bundesregierung in Bezug auf den aktuellen Diskurs zum Thema Sustainable Finance Taxonomie. Die Wissenschaftsplattfrom Sustainable Finance hat ihre erarbeitete Bewertung als Input eingebracht.
DTSTART;VALUE=DATE:20190903
DTEND;VALUE=DATE:20190903
DTSTAMP:20180826T220000Z
URL:https://www.diw.de/de/diw_01.c.682994.de/veranstaltungen/treffen_des_sustainable_fin...nable_finance_taxonomie.html
ORGANIZER;CN=Karsten Neuhoff:mailto:kneuhoff@diw.de
END:VEVENT
END:VCALENDAR